BEGIN:VCALENDAR
VERSION:2.0
PRODID:-//Rib and Chop House - ECPv6.6.4.2//NONSGML v1.0//EN
CALSCALE:GREGORIAN
METHOD:PUBLISH
X-ORIGINAL-URL:https://ribandchophouse.com
X-WR-CALDESC:Events for Rib and Chop House
REFRESH-INTERVAL;VALUE=DURATION:PT1H
X-Robots-Tag:noindex
X-PUBLISHED-TTL:PT1H
BEGIN:VTIMEZONE
TZID:UTC
BEGIN:STANDARD
TZOFFSETFROM:+0000
TZOFFSETTO:+0000
TZNAME:UTC
DTSTART:20250101T000000
END:STANDARD
END:VTIMEZONE
BEGIN:VEVENT
DTSTART;VALUE=DATE:20251225
DTEND;VALUE=DATE:20251226
DTSTAMP:20260422T205855
CREATED:20250701T143129Z
LAST-MODIFIED:20250701T143129Z
UID:4369-1766620800-1766707199@ribandchophouse.com
SUMMARY:Christmas
DESCRIPTION:
URL:https://ribandchophouse.com/event/christmas/
LOCATION:CO
END:VEVENT
END:VCALENDAR